BEGIN:VCALENDAR
VERSION:2.0
PRODID:-//Whitewater Valley Wine Society - ECPv6.15.20//NONSGML v1.0//EN
CALSCALE:GREGORIAN
METHOD:PUBLISH
X-WR-CALNAME:Whitewater Valley Wine Society
X-ORIGINAL-URL:https://www.whitewaterwine.org.uk
X-WR-CALDESC:Events for Whitewater Valley Wine Society
REFRESH-INTERVAL;VALUE=DURATION:PT1H
X-Robots-Tag:noindex
X-PUBLISHED-TTL:PT1H
BEGIN:VTIMEZONE
TZID:Europe/London
BEGIN:DAYLIGHT
TZOFFSETFROM:+0000
TZOFFSETTO:+0100
TZNAME:BST
DTSTART:20150329T010000
END:DAYLIGHT
BEGIN:STANDARD
TZOFFSETFROM:+0100
TZOFFSETTO:+0000
TZNAME:GMT
DTSTART:20151025T010000
END:STANDARD
BEGIN:DAYLIGHT
TZOFFSETFROM:+0000
TZOFFSETTO:+0100
TZNAME:BST
DTSTART:20160327T010000
END:DAYLIGHT
BEGIN:STANDARD
TZOFFSETFROM:+0100
TZOFFSETTO:+0000
TZNAME:GMT
DTSTART:20161030T010000
END:STANDARD
BEGIN:DAYLIGHT
TZOFFSETFROM:+0000
TZOFFSETTO:+0100
TZNAME:BST
DTSTART:20170326T010000
END:DAYLIGHT
BEGIN:STANDARD
TZOFFSETFROM:+0100
TZOFFSETTO:+0000
TZNAME:GMT
DTSTART:20171029T010000
END:STANDARD
BEGIN:DAYLIGHT
TZOFFSETFROM:+0000
TZOFFSETTO:+0100
TZNAME:BST
DTSTART:20180325T010000
END:DAYLIGHT
BEGIN:STANDARD
TZOFFSETFROM:+0100
TZOFFSETTO:+0000
TZNAME:GMT
DTSTART:20181028T010000
END:STANDARD
END:VTIMEZONE
BEGIN:VEVENT
DTSTART;TZID=Europe/London:20170412T194500
DTEND;TZID=Europe/London:20170412T220000
DTSTAMP:20260423T095525
CREATED:20160820T161238Z
LAST-MODIFIED:20170327T081539Z
UID:307-1492026300-1492034400@www.whitewaterwine.org.uk
SUMMARY:Chris White\, Ellis Wines: The wines of New Zealand
DESCRIPTION:Members: £15.  Guests: £18. \nWelcome drink from 7.45pm.  Tasting starts at 8pm. \nPlease book in advance for this tasting by e-mailing the Secretary. \nBookings are open to members from Thursday 30th March 2017.   Bookings are open to guests from Friday 7th April 2017\, assuming places are remaining. \nWe prefer that you pay for your tasting in advance by electronic banking.  Please note that if you pay the monthly tasting fee by this method\, then you still need to book your places by e-mail. \nClick here to read more about this tasting in our newsletter \nClick here for details of how to pay electronically
URL:https://www.whitewaterwine.org.uk/event/details-of-tasting-to-be-advised/
LOCATION:The Raven Hotel\, The Raven Hotel\, Hook\, RG27 9HS\, United Kingdom
END:VEVENT
BEGIN:VEVENT
DTSTART;TZID=Europe/London:20170407T193000
DTEND;TZID=Europe/London:20170407T231500
DTSTAMP:20260423T095525
CREATED:20160820T162303Z
LAST-MODIFIED:20170321T173128Z
UID:311-1491593400-1491606900@www.whitewaterwine.org.uk
SUMMARY:The Society's 30th Anniversary Dinner
DESCRIPTION:The Whitewater Valley Wine Society celebrates its 30th anniversary in 2017 and our main celebration event of the year will be our black tie dinner. The venue for our special evening will be Elvetham Hotel\, located in Hartley Wintney\, just a few miles from Hook. Elvetham Hotel is a stunning\, privately owned estate\, set in 35 acres of beautiful gardens and grounds. \nWe are delighted to announce that our guest speaker will be Robin McMillan\, who is Chief Executive Officer at The Wine Society. Robin has been CEO of The Wine Society for four years and has worked in the wine trade for more than 25 years. So this will be a great opportunity to hear Robin talk about the opportunities and challenges associated with running a society which for over 140 years has been solely owned by its members. There will also be an opportunity to ask Robin questions. \nLatest 21st March:  This event is now full.   If you have booked and paid for this event\, you should by now have received an e-mail which is your e-ticket and has key information about this event.   If you are booking return taxis or lifts\, please do not book these before 11.15pm. \nClick here for more details
URL:https://www.whitewaterwine.org.uk/event/the-societys-30th-anniversary-dinner/
LOCATION:Elvetham Hall Hotel\, Hartley Wintney\, Hook\, RG278AS\, United Kingdom
END:VEVENT
BEGIN:VEVENT
DTSTART;TZID=Europe/London:20170308T194500
DTEND;TZID=Europe/London:20170308T220000
DTSTAMP:20260423T095525
CREATED:20160820T161022Z
LAST-MODIFIED:20170220T183651Z
UID:305-1489002300-1489010400@www.whitewaterwine.org.uk
SUMMARY:Tim North\, Joie du Vin Ltd:  The wines of the Loire valley
DESCRIPTION:Members: £15.  Guests: £18. \nWelcome drink from 7.45pm.  Tasting starts at 8pm. \nPlease book in advance for this tasting by e-mailing the Secretary. \nBookings are open to members from Thursday 23rd February 2017.   Bookings are open to guests from Friday 3rd March 2017\, assuming places are remaining. \nWe prefer that you pay for your tasting in advance by electronic banking.  Please note that if you pay the monthly tasting fee by this method\, then you still need to book your places by e-mail. \nClick here to read more about this tasting in our newsletter \nClick here for details of how to pay electronically
URL:https://www.whitewaterwine.org.uk/event/tim-north-joie-du-vin-ltd-the-wines-of-the-loire-valley/
LOCATION:The Raven Hotel\, The Raven Hotel\, Hook\, RG27 9HS\, United Kingdom
END:VEVENT
BEGIN:VEVENT
DTSTART;TZID=Europe/London:20170208T194500
DTEND;TZID=Europe/London:20170208T220000
DTSTAMP:20260423T095525
CREATED:20160820T160532Z
LAST-MODIFIED:20170112T121230Z
UID:303-1486583100-1486591200@www.whitewaterwine.org.uk
SUMMARY:Society Members Jim King & Keith Cooper
DESCRIPTION:Members: £15.  Guests: £18. \nWelcome drink from 7.45pm. \nThe Society’s AGM will be held at 8.00pm. \nThe tasting will follow the AGM at approximately 8.15pm. \nPlease book in advance for this tasting by e-mailing the Secretary. \nBookings are open to members from Thursday 26th January 2017. Bookings are open to guests from Friday 3rd February 2017\, assuming places are remaining. \nWe prefer that you pay for your tasting in advance by electronic banking.  Please note that if you pay the monthly tasting fee by this method\, then you still need to book your places by e-mail. \nClick here for details of how to pay electronically
URL:https://www.whitewaterwine.org.uk/event/society-members-jim-king-keith-cooper/
LOCATION:The Raven Hotel\, The Raven Hotel\, Hook\, RG27 9HS\, United Kingdom
END:VEVENT
BEGIN:VEVENT
DTSTART;TZID=Europe/London:20170111T194500
DTEND;TZID=Europe/London:20170111T220000
DTSTAMP:20260423T095525
CREATED:20160820T154552Z
LAST-MODIFIED:20161224T111530Z
UID:292-1484163900-1484172000@www.whitewaterwine.org.uk
SUMMARY:Tim Syrad Wines:  Sicily\, Italy
DESCRIPTION:Members: £15.  Guests: £18. \nWelcome drink from 7.45pm.  Tasting starts at 8pm. \nPlease book in advance for this tasting by e-mailing the Secretary. \nBookings are open to members from Thursday 29th December 2016.   Bookings are open to guests from Friday 6th January 2017\, assuming places are remaining. \nWe prefer that you pay for your tasting in advance by electronic banking.  Please note that if you pay the monthly tasting fee by this method\, then you still need to book your places by e-mail. \nClick here to read more about this tasting in our January newsletter \nClick here for details of how to pay electronically
URL:https://www.whitewaterwine.org.uk/event/tim-syrad-wines-sicily-italy/
LOCATION:The Raven Hotel\, The Raven Hotel\, Hook\, RG27 9HS\, United Kingdom
END:VEVENT
BEGIN:VEVENT
DTSTART;TZID=Europe/London:20161214T194500
DTEND;TZID=Europe/London:20161214T220000
DTSTAMP:20260423T095525
CREATED:20160820T153425Z
LAST-MODIFIED:20161110T120525Z
UID:289-1481744700-1481752800@www.whitewaterwine.org.uk
SUMMARY:The Society's Christmas Tasting:  Members' Choices
DESCRIPTION:Members: £15.  Guests: £18. \nWelcome drink from 7.45pm.  Tasting starts at 8pm. \nPlease book in advance for this tasting by e-mailing the Secretary. \nBookings are open to both members and guests from Thursday 1st December 2016. \nWe prefer that you pay for your tasting in advance by electronic banking.  Please note that if you pay the monthly tasting fee by this method\, then you still need to book your places by e-mail. \nClick here to read more about this tasting in our December newsletter \nClick here for details of how to pay electronically
URL:https://www.whitewaterwine.org.uk/event/the-societys-christmas-tasting-members-choices/
LOCATION:The Raven Hotel\, The Raven Hotel\, Hook\, RG27 9HS\, United Kingdom
END:VEVENT
BEGIN:VEVENT
DTSTART;TZID=Europe/London:20161109T194500
DTEND;TZID=Europe/London:20161109T220000
DTSTAMP:20260423T095525
CREATED:20160820T152239Z
LAST-MODIFIED:20161108T105813Z
UID:285-1478720700-1478728800@www.whitewaterwine.org.uk
SUMMARY:Duncan Ross\, Berkmann Wine Cellars:  Argentina
DESCRIPTION:Members: £15.  Guests: £18. \nWelcome drink from 7.45pm.  Tasting starts at 8pm. \nPlease book in advance for this tasting by e-mailing the Secretary. \nBookings are open to members from Thursday 27th October 2016.   Bookings are open to guests from Friday 4th November 2016\, assuming places are remaining. \nWe prefer that you pay for your tasting in advance by electronic banking.  Please note that if you pay the monthly tasting fee by this method\, then you still need to book your places by e-mail. \nClick here for details of how to pay electronically
URL:https://www.whitewaterwine.org.uk/event/duncan-ross-berkmann-wine-cellars-argentina/
LOCATION:The Raven Hotel\, The Raven Hotel\, Hook\, RG27 9HS\, United Kingdom
END:VEVENT
BEGIN:VEVENT
DTSTART;TZID=Europe/London:20161028T194500
DTEND;TZID=Europe/London:20161028T221500
DTSTAMP:20260423T095525
CREATED:20160805T234408Z
LAST-MODIFIED:20161017T150950Z
UID:76-1477683900-1477692900@www.whitewaterwine.org.uk
SUMMARY:The Society's Fine Wine Evening.  Guest Speaker:  Simon Taylor\, Stone Vine & Sun
DESCRIPTION:Members and Guests: £30. \nBy popular demand\, Simon Taylor of Stone Vine & Sun will return to present our Fine Wine Evening.  We had a great evening when Simon last presented two years ago\, and we look forward to tasting some more fine wines from his portfolio. \nBooking is now open\, last few spaces available! \nMaximum number of places:  44 \nNumber of places booked as at 17/10/2016:  41 \nNumber of places remaining as at 17/10/2016:  3 \nPlease check latest availability with the Secretary before sending any more payments. \nClick here for more details\, including how to book
URL:https://www.whitewaterwine.org.uk/event/the-societys-fine-wine-evening-guest-speaker-simon-taylor-stone-vine-sun/
LOCATION:The Jubilee Hall\, West Green Road\, Hartley Wintney\, RG27 8RQ\, United Kingdom
END:VEVENT
BEGIN:VEVENT
DTSTART;TZID=Europe/London:20161012T193000
DTEND;TZID=Europe/London:20161012T220000
DTSTAMP:20260423T095525
CREATED:20160805T233447Z
LAST-MODIFIED:20220911T161251Z
UID:75-1476300600-1476309600@www.whitewaterwine.org.uk
SUMMARY:Mark Bedford\, Caviste:  Why Wine? A kaleidoscope journey through the world of wine
DESCRIPTION:Members: £15.  Guests: £18. \nWelcome drink from 7.45pm.  Tasting starts at 8pm. \nPlease book in advance for this tasting by e-mailing the Secretary. \nBookings are open to members from Thursday 29th September 2016.   Bookings are open to guests from Friday 7th October 2016\, assuming places are remaining. \nWe prefer that you pay for your tasting in advance by electronic banking.  Please note that if you pay the monthly tasting fee by this method\, then you still need to book your places by e-mail. \nClick here for details of how to pay electronically
URL:https://www.whitewaterwine.org.uk/event/mark-bedford-caviste-from-winemaker-to-wine-merchant-to-wine-consumer/
LOCATION:The Raven Hotel\, The Raven Hotel\, Hook\, RG27 9HS\, United Kingdom
END:VEVENT
END:VCALENDAR