BEGIN:VCALENDAR
VERSION:2.0
PRODID:-//Whitewater Valley Wine Society - ECPv6.15.20//NONSGML v1.0//EN
CALSCALE:GREGORIAN
METHOD:PUBLISH
X-ORIGINAL-URL:https://www.whitewaterwine.org.uk
X-WR-CALDESC:Events for Whitewater Valley Wine Society
REFRESH-INTERVAL;VALUE=DURATION:PT1H
X-Robots-Tag:noindex
X-PUBLISHED-TTL:PT1H
BEGIN:VTIMEZONE
TZID:Europe/London
BEGIN:DAYLIGHT
TZOFFSETFROM:+0000
TZOFFSETTO:+0100
TZNAME:BST
DTSTART:20250330T010000
END:DAYLIGHT
BEGIN:STANDARD
TZOFFSETFROM:+0100
TZOFFSETTO:+0000
TZNAME:GMT
DTSTART:20251026T010000
END:STANDARD
BEGIN:DAYLIGHT
TZOFFSETFROM:+0000
TZOFFSETTO:+0100
TZNAME:BST
DTSTART:20260329T010000
END:DAYLIGHT
BEGIN:STANDARD
TZOFFSETFROM:+0100
TZOFFSETTO:+0000
TZNAME:GMT
DTSTART:20261025T010000
END:STANDARD
BEGIN:DAYLIGHT
TZOFFSETFROM:+0000
TZOFFSETTO:+0100
TZNAME:BST
DTSTART:20270328T010000
END:DAYLIGHT
BEGIN:STANDARD
TZOFFSETFROM:+0100
TZOFFSETTO:+0000
TZNAME:GMT
DTSTART:20271031T010000
END:STANDARD
BEGIN:DAYLIGHT
TZOFFSETFROM:+0000
TZOFFSETTO:+0100
TZNAME:BST
DTSTART:20280326T010000
END:DAYLIGHT
BEGIN:STANDARD
TZOFFSETFROM:+0100
TZOFFSETTO:+0000
TZNAME:GMT
DTSTART:20281029T010000
END:STANDARD
END:VTIMEZONE
BEGIN:VEVENT
DTSTART;TZID=Europe/London:20261209T194500
DTEND;TZID=Europe/London:20261209T220000
DTSTAMP:20260424T154524
CREATED:20260217T162842Z
LAST-MODIFIED:20260217T162908Z
UID:3008-1796845500-1796853600@www.whitewaterwine.org.uk
SUMMARY:Christmas Raid on the Chair's Cellar
DESCRIPTION:Tonight we’ll be celebrating Christmas!  And we’re going to do that in style by raiding the Chair’s Cellar! \nYes\, by popular demand\, Keith will be digging deep into his cellar to bring you some superb wines\, which will hopefully get us in the mood for the upcoming Christmas celebrations. \nMore details about the wines will be published nearer the time. \nFood wise\, there will be the usual bread and cheese\, supplemented with some mince pies and other festive nibbles.  (But please eat first\, we’re not serving a meal!) \nAbove all\, the focus will be on enjoying the evening and chatting with your friends.   Keith won’t be doing too much talking (really!) \nIf that doesn’t get you in the mood for Christmas\, I’m not sure what will! \nHow to book your places \nBooking for members opens on Thursday 26th November.   Guest bookings open on Thursday 3rd December.   Please do not try to book or pay any money before these dates. \nFirstly\, please check with Clive that places are still available. You can book through Clive by e-mail to \nwvws.bookings.clive@gmail.com \nAs soon as Clive has confirmed you have places reserved\, please confirm your booking by making payment of £22 members / £27 guests to the Society account in the usual way. \nAccount Name:  Whitewater WineSoc \nSort Code: 30-91-31 \nAccount Number: 01158564 \nPlease enter a contact phone number to the reference field\, just in case we’re not sure who the payment has come from!
URL:https://www.whitewaterwine.org.uk/event/tasing-december-2026/
LOCATION:The Raven Hotel\, The Raven Hotel\, Hook\, RG27 9HS\, United Kingdom
END:VEVENT
BEGIN:VEVENT
DTSTART;TZID=Europe/London:20270305T193000
DTEND;TZID=Europe/London:20270305T230000
DTSTAMP:20260424T154524
CREATED:20260217T164008Z
LAST-MODIFIED:20260217T164008Z
UID:3011-1804275000-1804287600@www.whitewaterwine.org.uk
SUMMARY:The Society's 40th Anniversary Dinner
DESCRIPTION:The Whitewater Valley Wine Society will celebrate its 40th anniversary in 2027. \nOur main celebration event of the year will be a gala dinner\, to be held on Friday 5th March 2027. \nAnd we’re delighted to tell you that we already have a Master of Wine lined up as our guest speaker! \nThe venue for our special evening will be Elvetham Hotel\, located in Hartley Wintney\, just a few miles from Hook. Elvetham Hotel is a stunning\, privately owned estate\, set in 35 acres of beautiful gardens and grounds. \nOur spring evening will start at 7.30pm with a welcome bubbly. We will then enjoy a four course dinner (with several choices for each of starter\, main and dessert) and a cheese course.  Our meal will be accompanied by wine\, and followed by coffee/tea. We have negotiated to take our own wine into the hotel\, so the wines will be chosen by us to suit the occasion and menu choices. \nBookings for the dinner will open in Autumn 2026.   More details then.
URL:https://www.whitewaterwine.org.uk/event/the-societys-40th-anniversary-dinner/
LOCATION:Elvetham Hall Hotel\, Hartley Wintney\, Hook\, RG278AS\, United Kingdom
END:VEVENT
END:VCALENDAR