BEGIN:VCALENDAR
VERSION:2.0
PRODID:-//Whitewater Valley Wine Society - ECPv6.15.20//NONSGML v1.0//EN
CALSCALE:GREGORIAN
METHOD:PUBLISH
X-ORIGINAL-URL:https://www.whitewaterwine.org.uk
X-WR-CALDESC:Events for Whitewater Valley Wine Society
REFRESH-INTERVAL;VALUE=DURATION:PT1H
X-Robots-Tag:noindex
X-PUBLISHED-TTL:PT1H
BEGIN:VTIMEZONE
TZID:Europe/London
BEGIN:DAYLIGHT
TZOFFSETFROM:+0000
TZOFFSETTO:+0100
TZNAME:BST
DTSTART:20240331T010000
END:DAYLIGHT
BEGIN:STANDARD
TZOFFSETFROM:+0100
TZOFFSETTO:+0000
TZNAME:GMT
DTSTART:20241027T010000
END:STANDARD
BEGIN:DAYLIGHT
TZOFFSETFROM:+0000
TZOFFSETTO:+0100
TZNAME:BST
DTSTART:20250330T010000
END:DAYLIGHT
BEGIN:STANDARD
TZOFFSETFROM:+0100
TZOFFSETTO:+0000
TZNAME:GMT
DTSTART:20251026T010000
END:STANDARD
BEGIN:DAYLIGHT
TZOFFSETFROM:+0000
TZOFFSETTO:+0100
TZNAME:BST
DTSTART:20260329T010000
END:DAYLIGHT
BEGIN:STANDARD
TZOFFSETFROM:+0100
TZOFFSETTO:+0000
TZNAME:GMT
DTSTART:20261025T010000
END:STANDARD
END:VTIMEZONE
BEGIN:VEVENT
DTSTART;TZID=Europe/London:20250910T194500
DTEND;TZID=Europe/London:20250910T220000
DTSTAMP:20260424T202410
CREATED:20241120T170414Z
LAST-MODIFIED:20250422T105807Z
UID:2791-1757533500-1757541600@www.whitewaterwine.org.uk
SUMMARY:Mark Bedford\, Owner\, Caviste:  Madness\, Devotion and Brilliance
DESCRIPTION:In September\, we welcome back Mark Bedford\, owner of our local wine merchant Caviste.  Mark is well known to many of us and we always enjoy our evenings when he presents. \nMark will introduce the people and their stories behind 9 wines that Caviste has sold over the years.  It takes commitment\, skill\, vision and a high degree of craziness and self-sacrifice to make many of the wines that we enjoy. We shall endeavour to identify both the terroir of the vineyard and the personality of the winemaker\, while Mark amuses us with the stories behind the wines. \nThis promises to be another great evening at The Raven. \nHow to book your places \nBooking for members opens on Thursday 28th August.   Guest bookings open on Thursday 4th September.   Please do not try to book or pay any money before these dates. \nFirstly\, please check with Clive that places are still available. You can book through Clive by e-mail to \nwvws.bookings.clive@gmail.com \nAs soon as Clive has confirmed you have places reserved\, please confirm your booking by making payment of £20 members / £24 guests to the Society account in the usual way. \nAccount Name:  Whitewater WineSoc \nSort Code: 30-91-31 \nAccount Number: 01158564 \nPlease enter a contact phone number to the reference field\, just in case we’re not sure who the payment has come from!
URL:https://www.whitewaterwine.org.uk/event/september-2025-tasting/
LOCATION:The Raven Hotel\, The Raven Hotel\, Hook\, RG27 9HS\, United Kingdom
END:VEVENT
END:VCALENDAR