BEGIN:VCALENDAR
VERSION:2.0
PRODID:-//Whitewater Valley Wine Society - ECPv6.15.20//NONSGML v1.0//EN
CALSCALE:GREGORIAN
METHOD:PUBLISH
X-ORIGINAL-URL:https://www.whitewaterwine.org.uk
X-WR-CALDESC:Events for Whitewater Valley Wine Society
REFRESH-INTERVAL;VALUE=DURATION:PT1H
X-Robots-Tag:noindex
X-PUBLISHED-TTL:PT1H
BEGIN:VTIMEZONE
TZID:Europe/London
BEGIN:DAYLIGHT
TZOFFSETFROM:+0000
TZOFFSETTO:+0100
TZNAME:BST
DTSTART:20240331T010000
END:DAYLIGHT
BEGIN:STANDARD
TZOFFSETFROM:+0100
TZOFFSETTO:+0000
TZNAME:GMT
DTSTART:20241027T010000
END:STANDARD
BEGIN:DAYLIGHT
TZOFFSETFROM:+0000
TZOFFSETTO:+0100
TZNAME:BST
DTSTART:20250330T010000
END:DAYLIGHT
BEGIN:STANDARD
TZOFFSETFROM:+0100
TZOFFSETTO:+0000
TZNAME:GMT
DTSTART:20251026T010000
END:STANDARD
BEGIN:DAYLIGHT
TZOFFSETFROM:+0000
TZOFFSETTO:+0100
TZNAME:BST
DTSTART:20260329T010000
END:DAYLIGHT
BEGIN:STANDARD
TZOFFSETFROM:+0100
TZOFFSETTO:+0000
TZNAME:GMT
DTSTART:20261025T010000
END:STANDARD
END:VTIMEZONE
BEGIN:VEVENT
DTSTART;TZID=Europe/London:20251008T194500
DTEND;TZID=Europe/London:20251008T220000
DTSTAMP:20260424T185152
CREATED:20250422T110017Z
LAST-MODIFIED:20250911T162618Z
UID:2875-1759952700-1759960800@www.whitewaterwine.org.uk
SUMMARY:Alun Griffiths\, Master of Wine:  Languedoc/Roussillon
DESCRIPTION:It is with enormous pleasure that we welcome back Alun Griffiths to present our October tasting. Alun is a great friend of our Society and needs no introduction to many of our members. We know that his evenings with us are always informative\, interesting and fun. For the benefit of our newer members who may not know Alun\, he has been a Master of Wine since 1991. For many years\, he was Wine Director at Berry Bros & Rudd\, following which he was based in Hong Kong for several years. \nBack in the UK\,  Alun lectures on wine and has been a panel judge at the International Wine Challenge and the Decanter Wine Awards Competition. He’s a regular member of the Decanter Magazine tasting panel.  And he is non-Executive Chairman of Thorman Hunt\, a family-run specialist wine shipper sourcing premium artisanal wine. \nThis time\, Alun will be presenting the wines of Languedoc/Roussillon in France.   He’ll be picking some of his favourite wines from a recent visit to the region. \nIt’s a privilege to be able to welcome Alun for what is sure to be a fantastic evening. \nHow to book your places \nBooking for members opens on Thursday 25th September September.   Guest bookings open on Thursday 2nd October.   Please do not try to book or pay any money before these dates. \nFirstly\, please check with Clive that places are still available. You can book through Clive by e-mail to \nwvws.bookings.clive@gmail.com \nAs soon as Clive has confirmed you have places reserved\, please confirm your booking by making payment of £20 members / £24 guests to the Society account in the usual way. \nAccount Name:  Whitewater WineSoc \nSort Code: 30-91-31 \nAccount Number: 01158564 \nPlease enter a contact phone number to the reference field\, just in case we’re not sure who the payment has come from!
URL:https://www.whitewaterwine.org.uk/event/october-2025-tasting/
LOCATION:The Raven Hotel\, The Raven Hotel\, Hook\, RG27 9HS\, United Kingdom
END:VEVENT
END:VCALENDAR