BEGIN:VCALENDAR
VERSION:2.0
PRODID:-//Whitewater Valley Wine Society - ECPv6.15.20//NONSGML v1.0//EN
CALSCALE:GREGORIAN
METHOD:PUBLISH
X-ORIGINAL-URL:https://www.whitewaterwine.org.uk
X-WR-CALDESC:Events for Whitewater Valley Wine Society
REFRESH-INTERVAL;VALUE=DURATION:PT1H
X-Robots-Tag:noindex
X-PUBLISHED-TTL:PT1H
BEGIN:VTIMEZONE
TZID:Europe/London
BEGIN:DAYLIGHT
TZOFFSETFROM:+0000
TZOFFSETTO:+0100
TZNAME:BST
DTSTART:20250330T010000
END:DAYLIGHT
BEGIN:STANDARD
TZOFFSETFROM:+0100
TZOFFSETTO:+0000
TZNAME:GMT
DTSTART:20251026T010000
END:STANDARD
BEGIN:DAYLIGHT
TZOFFSETFROM:+0000
TZOFFSETTO:+0100
TZNAME:BST
DTSTART:20260329T010000
END:DAYLIGHT
BEGIN:STANDARD
TZOFFSETFROM:+0100
TZOFFSETTO:+0000
TZNAME:GMT
DTSTART:20261025T010000
END:STANDARD
BEGIN:DAYLIGHT
TZOFFSETFROM:+0000
TZOFFSETTO:+0100
TZNAME:BST
DTSTART:20270328T010000
END:DAYLIGHT
BEGIN:STANDARD
TZOFFSETFROM:+0100
TZOFFSETTO:+0000
TZNAME:GMT
DTSTART:20271031T010000
END:STANDARD
END:VTIMEZONE
BEGIN:VEVENT
DTSTART;TZID=Europe/London:20260114T194500
DTEND;TZID=Europe/London:20260114T220000
DTSTAMP:20260424T124425
CREATED:20250909T072333Z
LAST-MODIFIED:20250909T074859Z
UID:2911-1768419900-1768428000@www.whitewaterwine.org.uk
SUMMARY:Claudia Hussain\, Noble Green Wines: Volcanic Wines
DESCRIPTION:Tonight we welcome Claudia Hussain\, who is presenting to us for the first time. \nClaudia is an enthusiastic and lively ambassador for Noble Green Wines\, who are an independent wine\, craft beer and spirits merchant located in the Twickenham area.   Regular members will know that I’m very keen to support our independent wine merchants.  It’s through them that we’re able to buy and taste wines which typically offer more than those available through the supermarkets. \nClaudia will present her pick of volcanic wines.  These are wines from vineyards grown near active\, dormant\, or extinct volcanoes. Here\, rich ash and lava from eruptions are present in the soil\, so have an impact on the agricultural functions that surround them. Volcanic soils are quite porous\, which means that the soil near the surface isn’t holding onto rainwater or humidity to hydrate the vines\, so they develop deep roots in their search for moisture and nutrients. \nThis sounds like a fascinating evening.   So book early to avoid disappointment. \nHow to book your places \nBooking for members opens on Thursday 1st January.   Guest bookings open on Thursday 8th January.   Please do not try to book or pay any money before these dates. \nFirstly\, please check with Clive that places are still available. You can book through Clive by e-mail to \nwvws.bookings.clive@gmail.com \nAs soon as Clive has confirmed you have places reserved\, please confirm your booking by making payment of £20 members / £24 guests to the Society account in the usual way. \nAccount Name:  Whitewater WineSoc \nSort Code: 30-91-31 \nAccount Number: 01158564 \nPlease enter a contact phone number to the reference field\, just in case we’re not sure who the payment has come from!
URL:https://www.whitewaterwine.org.uk/event/january-2026-tasting/
LOCATION:The Raven Hotel\, The Raven Hotel\, Hook\, RG27 9HS\, United Kingdom
END:VEVENT
END:VCALENDAR