BEGIN:VCALENDAR
VERSION:2.0
PRODID:-//Whitewater Valley Wine Society - ECPv6.15.20//NONSGML v1.0//EN
CALSCALE:GREGORIAN
METHOD:PUBLISH
X-ORIGINAL-URL:https://www.whitewaterwine.org.uk
X-WR-CALDESC:Events for Whitewater Valley Wine Society
REFRESH-INTERVAL;VALUE=DURATION:PT1H
X-Robots-Tag:noindex
X-PUBLISHED-TTL:PT1H
BEGIN:VTIMEZONE
TZID:Europe/London
BEGIN:DAYLIGHT
TZOFFSETFROM:+0000
TZOFFSETTO:+0100
TZNAME:BST
DTSTART:20250330T010000
END:DAYLIGHT
BEGIN:STANDARD
TZOFFSETFROM:+0100
TZOFFSETTO:+0000
TZNAME:GMT
DTSTART:20251026T010000
END:STANDARD
BEGIN:DAYLIGHT
TZOFFSETFROM:+0000
TZOFFSETTO:+0100
TZNAME:BST
DTSTART:20260329T010000
END:DAYLIGHT
BEGIN:STANDARD
TZOFFSETFROM:+0100
TZOFFSETTO:+0000
TZNAME:GMT
DTSTART:20261025T010000
END:STANDARD
BEGIN:DAYLIGHT
TZOFFSETFROM:+0000
TZOFFSETTO:+0100
TZNAME:BST
DTSTART:20270328T010000
END:DAYLIGHT
BEGIN:STANDARD
TZOFFSETFROM:+0100
TZOFFSETTO:+0000
TZNAME:GMT
DTSTART:20271031T010000
END:STANDARD
END:VTIMEZONE
BEGIN:VEVENT
DTSTART;TZID=Europe/London:20260513T194500
DTEND;TZID=Europe/London:20260513T220000
DTSTAMP:20260422T182542
CREATED:20250909T072941Z
LAST-MODIFIED:20260217T160327Z
UID:2918-1778701500-1778709600@www.whitewaterwine.org.uk
SUMMARY:Robert Boutflower\, Tanners Wine Merchants:  Rioja
DESCRIPTION:It’s been four years since we last welcomed Robert Boutflower to present to us. We had a great time on that occasion\, so we have no hesitation in giving him the opportunity to talk to us again. Robert is a Director at Tanners Wine Merchants\, a long established retailer\, well known to many of our members. The business can trace its roots in Shrewsbury back to the mid 19th century. \nThis time\, Robert will present his selection of wines from Rioja.  Nestled in the heart of North Central Spain\, not far from the vibrant city of Bilbao\, lies the renowned La Rioja wine region. Despite being Spain’s second smallest region\, spanning a mere 5\,000 km2\, La Rioja holds the esteemed title as the country’s most distinguished wine-producing area. This region is a wine lover’s paradise\, producing some of Spain’s finest wines. \nOur evening will feature both white and red wines. \nHow to book your places \nBooking for members opens on Thursday 30th April.   Guest bookings open on Thursday 7th May.   Please do not try to book or pay any money before these dates. \nFirstly\, please check with Clive that places are still available. You can book through Clive by e-mail to \nwvws.bookings.clive@gmail.com \nAs soon as Clive has confirmed you have places reserved\, please confirm your booking by making payment of £22 members / £27 guests to the Society account in the usual way. \nAccount Name:  Whitewater WineSoc \nSort Code: 30-91-31 \nAccount Number: 01158564 \nPlease enter a contact phone number to the reference field\, just in case we’re not sure who the payment has come from!
URL:https://www.whitewaterwine.org.uk/event/march-2026-tasting/
LOCATION:The Raven Hotel\, The Raven Hotel\, Hook\, RG27 9HS\, United Kingdom
END:VEVENT
END:VCALENDAR