BEGIN:VCALENDAR
VERSION:2.0
PRODID:-//Whitewater Valley Wine Society - ECPv6.15.20//NONSGML v1.0//EN
CALSCALE:GREGORIAN
METHOD:PUBLISH
X-WR-CALNAME:Whitewater Valley Wine Society
X-ORIGINAL-URL:https://www.whitewaterwine.org.uk
X-WR-CALDESC:Events for Whitewater Valley Wine Society
REFRESH-INTERVAL;VALUE=DURATION:PT1H
X-Robots-Tag:noindex
X-PUBLISHED-TTL:PT1H
BEGIN:VTIMEZONE
TZID:Europe/London
BEGIN:DAYLIGHT
TZOFFSETFROM:+0000
TZOFFSETTO:+0100
TZNAME:BST
DTSTART:20250330T010000
END:DAYLIGHT
BEGIN:STANDARD
TZOFFSETFROM:+0100
TZOFFSETTO:+0000
TZNAME:GMT
DTSTART:20251026T010000
END:STANDARD
BEGIN:DAYLIGHT
TZOFFSETFROM:+0000
TZOFFSETTO:+0100
TZNAME:BST
DTSTART:20260329T010000
END:DAYLIGHT
BEGIN:STANDARD
TZOFFSETFROM:+0100
TZOFFSETTO:+0000
TZNAME:GMT
DTSTART:20261025T010000
END:STANDARD
BEGIN:DAYLIGHT
TZOFFSETFROM:+0000
TZOFFSETTO:+0100
TZNAME:BST
DTSTART:20270328T010000
END:DAYLIGHT
BEGIN:STANDARD
TZOFFSETFROM:+0100
TZOFFSETTO:+0000
TZNAME:GMT
DTSTART:20271031T010000
END:STANDARD
END:VTIMEZONE
BEGIN:VEVENT
DTSTART;TZID=Europe/London:20260610T194500
DTEND;TZID=Europe/London:20260610T220000
DTSTAMP:20260422T194022
CREATED:20260217T160810Z
LAST-MODIFIED:20260324T124642Z
UID:2996-1781120700-1781128800@www.whitewaterwine.org.uk
SUMMARY:Andrew Walker\, Director Solaris Wines:  Slovenia & Romania
DESCRIPTION:Tonight we will welcome Andrew Walker\, Director of Solaris Wines\, who is presenting to us for the first time. \nSolaris is an independent wine retailer and they are proud of that!  Andrew’s aim is to seek out fascinating wines and passionate producers.  He has visited every vineyard on their list and knows each winemaker personally.  So we are sure to hear plenty about the personalities involved. \nAndrew will present his choice of wines from Slovenia and Romania.   Regular members will know that the Whitewater Valley Wine Society has recently had presentations of both Slovakian and Ukrainian wines….and we’ve been very impressed with the wines from both countries.   And I have no doubt that we will find that the wines from Slovenia and Romania are equally impressive and affordable. \nSo it’s going to be another great evening! \nHow to book your places \nBooking for members opens on Thursday 28th May.   Guest bookings open on Thursday 4th June.   Please do not try to book or pay any money before these dates. \nFirstly\, please check with Clive that places are still available. You can book through Clive by e-mail to \nwvws.bookings.clive@gmail.com \nAs soon as Clive has confirmed you have places reserved\, please confirm your booking by making payment of £22 members / £27 guests to the Society account in the usual way. \nAccount Name:  Whitewater WineSoc \nSort Code: 30-91-31 \nAccount Number: 01158564 \nPlease enter a contact phone number to the reference field\, just in case we’re not sure who the payment has come from!
URL:https://www.whitewaterwine.org.uk/event/tasting-june-2026/
LOCATION:The Raven Hotel\, The Raven Hotel\, Hook\, RG27 9HS\, United Kingdom
END:VEVENT
END:VCALENDAR