BEGIN:VCALENDAR
VERSION:2.0
PRODID:-//Whitewater Valley Wine Society - ECPv6.15.20//NONSGML v1.0//EN
CALSCALE:GREGORIAN
METHOD:PUBLISH
X-WR-CALNAME:Whitewater Valley Wine Society
X-ORIGINAL-URL:https://www.whitewaterwine.org.uk
X-WR-CALDESC:Events for Whitewater Valley Wine Society
REFRESH-INTERVAL;VALUE=DURATION:PT1H
X-Robots-Tag:noindex
X-PUBLISHED-TTL:PT1H
BEGIN:VTIMEZONE
TZID:Europe/London
BEGIN:DAYLIGHT
TZOFFSETFROM:+0000
TZOFFSETTO:+0100
TZNAME:BST
DTSTART:20250330T010000
END:DAYLIGHT
BEGIN:STANDARD
TZOFFSETFROM:+0100
TZOFFSETTO:+0000
TZNAME:GMT
DTSTART:20251026T010000
END:STANDARD
BEGIN:DAYLIGHT
TZOFFSETFROM:+0000
TZOFFSETTO:+0100
TZNAME:BST
DTSTART:20260329T010000
END:DAYLIGHT
BEGIN:STANDARD
TZOFFSETFROM:+0100
TZOFFSETTO:+0000
TZNAME:GMT
DTSTART:20261025T010000
END:STANDARD
BEGIN:DAYLIGHT
TZOFFSETFROM:+0000
TZOFFSETTO:+0100
TZNAME:BST
DTSTART:20270328T010000
END:DAYLIGHT
BEGIN:STANDARD
TZOFFSETFROM:+0100
TZOFFSETTO:+0000
TZNAME:GMT
DTSTART:20271031T010000
END:STANDARD
END:VTIMEZONE
BEGIN:VEVENT
DTSTART;TZID=Europe/London:20260708T194500
DTEND;TZID=Europe/London:20260708T220000
DTSTAMP:20260424T152247
CREATED:20260217T161028Z
LAST-MODIFIED:20260317T171936Z
UID:2999-1783539900-1783548000@www.whitewaterwine.org.uk
SUMMARY:Aoife Curtin:  UK Brand Development Manager\, Journey's End
DESCRIPTION:This month we are delighted to welcome Aoife Curtin\, who is presenting to us for the first time. \nAoife is UK Brand Development Manager for South Africa’s Journey’s End winery.  She is a young and hugely enthusiastic ambassador for their winery. And she is excited about showing our members wines from across the winery’s portfolio.   Regular members will know that I am always keen to offer our members an evening tasting wines from a single winery\, as it gives the opportunity to explore the wines in more depth. \nIn 1996 the Gabb family\, originally from Shropshire\, UK\, fell in love with the Journey’s End wine farm\, restoring it to what it is today\, now surrounded by 40 hectares of beautiful vineyards.  They feel fortunate to be nestled amongst the Schapenberg hills\, beneath which lay 350-million-year-old decomposed granite soils. This creates one of the most prestigious terroirs in South Africa\, and is where their vines are planted. \nThis promises to be a really interesting evening and early booking is advised. \nHow to book your places \nBooking for members opens on Thursday 25th June.   Guest bookings open on Thursday 2nd July.   Please do not try to book or pay any money before these dates. \nFirstly\, please check with Clive that places are still available. You can book through Clive by e-mail to \nwvws.bookings.clive@gmail.com \nAs soon as Clive has confirmed you have places reserved\, please confirm your booking by making payment of £22 members / £27 guests to the Society account in the usual way. \nAccount Name:  Whitewater WineSoc \nSort Code: 30-91-31 \nAccount Number: 01158564 \nPlease enter a contact phone number to the reference field\, just in case we’re not sure who the payment has come from!
URL:https://www.whitewaterwine.org.uk/event/tasting-july-2026/
LOCATION:The Raven Hotel\, The Raven Hotel\, Hook\, RG27 9HS\, United Kingdom
END:VEVENT
END:VCALENDAR